BEGIN:VCALENDAR
VERSION:2.0
PRODID:-//kirche-schatthausen.de//NONSGML kigkonsult.se iCalcreator 2.41.92//
CALSCALE:GREGORIAN
METHOD:PUBLISH
UID:65373730-3961-4262-b965-653139646465
X-WR-TIMEZONE:Europe/Berlin
X-LIC-LOCATION:Europe/Berlin
BEGIN:VTIMEZONE
TZID:Europe/Berlin
BEGIN:DAYLIGHT
TZOFFSETFROM:+0100
TZOFFSETTO:+0200
TZNAME:CEST
DTSTART:19700329T020000
RRULE:FREQ=YEARLY;BYDAY=-1SU;BYMONTH=3
END:DAYLIGHT
BEGIN:STANDARD
TZOFFSETFROM:+0200
TZOFFSETTO:+0100
TZNAME:CET
DTSTART:19701025T030000
RRULE:FREQ=YEARLY;BYDAY=-1SU;BYMONTH=10
END:STANDARD
END:VTIMEZONE
BEGIN:VEVENT
UID:35653138-6438-4366-a136-336665376164
DTSTAMP:20260421T165347Z
DESCRIPTION:Alle Frauen sind herzlich eingeladen den Nachmittag aufzuheiter
 n.\n \n Veranstaltungsort:\n Gemeindehaus\n Kirchstraße 13\n 69168 Wiesloc
 h-Schatthausen\n \n Veranstalter:\n Evangelische Pfarrgemeinde Schatthause
 n\n Kirchstraße 15\n 69168 Wiesloch - Schatthausen\n Telefon: 06222 70644
 \n Telefax: 06222 70280\n http://www.kirche-schatthausen.de
DTSTART;TZID=Europe/Berlin:20260511T150000
DTEND;TZID=Europe/Berlin:20260511T160000
LOCATION:Gemeindehaus\n - Kirchstraße 13\n - 69168 Wiesloch-Schatthausen
SUMMARY:Frauenkreis
X-ALT-DESC;FMTTYPE=text/html:Alle Frauen sind herzlich eingeladen den Nachm
 ittag aufzuheitern.<br /><br />Veranstaltungsort: <br />Gemeindehaus<br />
 Kirchstraße 13<br />69168 Wiesloch-Schatthausen<br /><br />Veranstalter: <
 br />Evangelische Pfarrgemeinde Schatthausen<br />Kirchstraße 15<br />6916
 8 Wiesloch - Schatthausen<br />Telefon: 06222 70644<br />Telefax: 06222 70
 280<br />http://www.kirche-schatthausen.de
END:VEVENT
END:VCALENDAR
