BEGIN:VCALENDAR
VERSION:2.0
PRODID:-//kirche-schatthausen.de//NONSGML kigkonsult.se iCalcreator 2.41.92//
CALSCALE:GREGORIAN
METHOD:PUBLISH
UID:63363537-6639-4262-a534-313933366564
X-WR-TIMEZONE:Europe/Berlin
X-LIC-LOCATION:Europe/Berlin
BEGIN:VTIMEZONE
TZID:Europe/Berlin
BEGIN:DAYLIGHT
TZOFFSETFROM:+0100
TZOFFSETTO:+0200
TZNAME:CEST
DTSTART:19700329T020000
RRULE:FREQ=YEARLY;BYDAY=-1SU;BYMONTH=3
END:DAYLIGHT
BEGIN:STANDARD
TZOFFSETFROM:+0200
TZOFFSETTO:+0100
TZNAME:CET
DTSTART:19701025T030000
RRULE:FREQ=YEARLY;BYDAY=-1SU;BYMONTH=10
END:STANDARD
END:VTIMEZONE
BEGIN:VEVENT
UID:63366435-6434-4930-b830-653265356361
DTSTAMP:20260423T173545Z
DESCRIPTION:Wir laden zur Konfi-Anmeldung / Infoabend in Schatthausen ein. 
 An diesem Abend wird der Terminplan für das Konfirmandenjahr 2026/2027.\n 
 \n Veranstaltungsort:\n Gemeindehaus\n Kirchstraße 13\n 69168 Wiesloch-Sch
 atthausen\n Evangelisches Gemeindehaus Schatthausen\, Kirchstr. 15\, 69168
  Wiesloch\n \n Veranstalter:\n Evangelische Pfarrgemeinde Schatthausen\n K
 irchstraße 15\n 69168 Wiesloch - Schatthausen\n Telefon: 06222 70644\n Tel
 efax: 06222 70280\n http://www.kirche-schatthausen.de
DTSTART;TZID=Europe/Berlin:20260519T190000
DTEND;TZID=Europe/Berlin:20260519T200000
LOCATION:Gemeindehaus\n - Kirchstraße 13\n - 69168 Wiesloch-Schatthausen\n 
 - Evangelisches Gemeindehaus Schatthausen\, Kirchstr. 15\, 69168 Wiesloch
SUMMARY:Konfi-Anmeldung / Infoabend in Schatthausen
X-ALT-DESC;FMTTYPE=text/html:Wir laden zur Konfi-Anmeldung / Infoabend in S
 chatthausen ein.\n \n An diesem Abend wird der Terminplan für das Konfirma
 ndenjahr 2026/2027.<br /><br />Veranstaltungsort: <br />Gemeindehaus<br />
 Kirchstraße 13<br />69168 Wiesloch-Schatthausen<br />Evangelisches Gemeind
 ehaus Schatthausen\, Kirchstr. 15\, 69168 Wiesloch<br /><br />Veranstalter
 : <br />Evangelische Pfarrgemeinde Schatthausen<br />Kirchstraße 15<br />6
 9168 Wiesloch - Schatthausen<br />Telefon: 06222 70644<br />Telefax: 06222
  70280<br />http://www.kirche-schatthausen.de
END:VEVENT
END:VCALENDAR
