BEGIN:VCALENDAR
VERSION:2.0
PRODID:-//kirche-schatthausen.de//NONSGML kigkonsult.se iCalcreator 2.41.92//
CALSCALE:GREGORIAN
METHOD:PUBLISH
UID:31373038-3634-4665-b763-646239356261
X-WR-TIMEZONE:Europe/Berlin
X-LIC-LOCATION:Europe/Berlin
BEGIN:VTIMEZONE
TZID:Europe/Berlin
BEGIN:DAYLIGHT
TZOFFSETFROM:+0100
TZOFFSETTO:+0200
TZNAME:CEST
DTSTART:19700329T020000
RRULE:FREQ=YEARLY;BYDAY=-1SU;BYMONTH=3
END:DAYLIGHT
BEGIN:STANDARD
TZOFFSETFROM:+0200
TZOFFSETTO:+0100
TZNAME:CET
DTSTART:19701025T030000
RRULE:FREQ=YEARLY;BYDAY=-1SU;BYMONTH=10
END:STANDARD
END:VTIMEZONE
BEGIN:VEVENT
UID:39666639-3037-4264-b736-313763376235
DTSTAMP:20260421T153431Z
DESCRIPTION:mit Pfarrer i.R. Klaus Zimmermann\n \n Veranstaltungsort:\n Eva
 ngelische Kirche Schatthausen\n Kirchstraße 15\n 69168 Wiesloch-Schatthaus
 en\n \n Veranstalter:\n Evangelische Pfarrgemeinde Schatthausen\n Kirchstr
 aße 15\n 69168 Wiesloch - Schatthausen\n Telefon: 06222 70644\n Telefax: 0
 6222 70280\n http://www.kirche-schatthausen.de
DTSTART;TZID=Europe/Berlin:20260503T100000
DTEND;TZID=Europe/Berlin:20260503T110000
LOCATION:Evangelische Kirche Schatthausen\n - Kirchstraße 15\n - 69168 Wies
 loch-Schatthausen
SUMMARY:Gottesdienst
X-ALT-DESC;FMTTYPE=text/html:mit Pfarrer i.R. Klaus Zimmermann<br /><br />V
 eranstaltungsort: <br />Evangelische Kirche Schatthausen<br />Kirchstraße 
 15<br />69168 Wiesloch-Schatthausen<br /><br />Veranstalter: <br />Evangel
 ische Pfarrgemeinde Schatthausen<br />Kirchstraße 15<br />69168 Wiesloch -
  Schatthausen<br />Telefon: 06222 70644<br />Telefax: 06222 70280<br />htt
 p://www.kirche-schatthausen.de
END:VEVENT
END:VCALENDAR
