BEGIN:VCALENDAR
VERSION:2.0
PRODID:-//kirche-schatthausen.de//NONSGML kigkonsult.se iCalcreator 2.41.92//
CALSCALE:GREGORIAN
METHOD:PUBLISH
UID:63383037-3437-4436-b563-353462656639
X-WR-TIMEZONE:Europe/Berlin
X-LIC-LOCATION:Europe/Berlin
BEGIN:VTIMEZONE
TZID:Europe/Berlin
BEGIN:DAYLIGHT
TZOFFSETFROM:+0100
TZOFFSETTO:+0200
TZNAME:CEST
DTSTART:19700329T020000
RRULE:FREQ=YEARLY;BYDAY=-1SU;BYMONTH=3
END:DAYLIGHT
BEGIN:STANDARD
TZOFFSETFROM:+0200
TZOFFSETTO:+0100
TZNAME:CET
DTSTART:19701025T030000
RRULE:FREQ=YEARLY;BYDAY=-1SU;BYMONTH=10
END:STANDARD
END:VTIMEZONE
BEGIN:VEVENT
UID:32613836-3134-4862-b835-653962383031
DTSTAMP:20260421T153134Z
DESCRIPTION:mit Taufe\n \n Veranstaltungsort:\n Evangelische Kirche Schatth
 ausen\n Kirchstr.15\n 69168 Wiesloch-Schatthausen\n \n Veranstalter:\n Sch
 atthausen\, Evangelische Pfarrgemeinde\n Kirchstraße 15\n 69168 Wiesloch-S
 chatthausen\n Telefon: 06222-70644\n Telefax: 06222-70280\n http://www.kir
 che-schatthausen.de
DTSTART;TZID=Europe/Berlin:20260531T100000
DTEND;TZID=Europe/Berlin:20260531T110000
LOCATION:Evangelische Kirche Schatthausen\n - Kirchstr.15\n - 69168 Wiesloc
 h-Schatthausen
SUMMARY:Gottesdienst
X-ALT-DESC;FMTTYPE=text/html:mit Taufe<br /><br />Veranstaltungsort: <br />
 Evangelische Kirche Schatthausen<br />Kirchstr.15<br />69168 Wiesloch-Scha
 tthausen<br /><br />Veranstalter: <br />Schatthausen\, Evangelische Pfarrg
 emeinde<br />Kirchstraße 15 <br />69168 Wiesloch-Schatthausen<br />Telefon
 : 06222-70644 <br />Telefax: 06222-70280<br />http://www.kirche-schatthaus
 en.de
END:VEVENT
END:VCALENDAR
